BEGIN:VCALENDAR
VERSION:2.0
PRODID:-//TVB - ECPv6.15.20//NONSGML v1.0//EN
CALSCALE:GREGORIAN
METHOD:PUBLISH
X-ORIGINAL-URL:https://tinqueux-volley-ball.org
X-WR-CALDESC:Évènements pour TVB
REFRESH-INTERVAL;VALUE=DURATION:PT1H
X-Robots-Tag:noindex
X-PUBLISHED-TTL:PT1H
BEGIN:VTIMEZONE
TZID:Europe/Paris
BEGIN:DAYLIGHT
TZOFFSETFROM:+0100
TZOFFSETTO:+0200
TZNAME:CEST
DTSTART:20250330T010000
END:DAYLIGHT
BEGIN:STANDARD
TZOFFSETFROM:+0200
TZOFFSETTO:+0100
TZNAME:CET
DTSTART:20251026T010000
END:STANDARD
BEGIN:DAYLIGHT
TZOFFSETFROM:+0100
TZOFFSETTO:+0200
TZNAME:CEST
DTSTART:20260329T010000
END:DAYLIGHT
BEGIN:STANDARD
TZOFFSETFROM:+0200
TZOFFSETTO:+0100
TZNAME:CET
DTSTART:20261025T010000
END:STANDARD
BEGIN:DAYLIGHT
TZOFFSETFROM:+0100
TZOFFSETTO:+0200
TZNAME:CEST
DTSTART:20270328T010000
END:DAYLIGHT
BEGIN:STANDARD
TZOFFSETFROM:+0200
TZOFFSETTO:+0100
TZNAME:CET
DTSTART:20271031T010000
END:STANDARD
END:VTIMEZONE
BEGIN:VEVENT
DTSTART;TZID=Europe/Paris:20260111T150000
DTEND;TZID=Europe/Paris:20260111T170000
DTSTAMP:20260420T181126
CREATED:20250818T155424Z
LAST-MODIFIED:20250829T170826Z
UID:1488-1768143600-1768150800@tinqueux-volley-ball.org
SUMMARY:R1FC: Tinqueux 1 - Rantigny-Liancourt 1
DESCRIPTION:Gymnase De La Croix Cordier
URL:https://tinqueux-volley-ball.org/event/tinqueux-1-rantigny-liancourt-1/
LOCATION:Tinqueux Volley-Ball-Gymnase De La Croix Cordier\, 36 Rue De La Croix Cordier\, Tinqueux\, Marne\, 51430\, France
CATEGORIES:R1FC
END:VEVENT
BEGIN:VEVENT
DTSTART;TZID=Europe/Paris:20260125T140000
DTEND;TZID=Europe/Paris:20260125T160000
DTSTAMP:20260420T181126
CREATED:20250818T155424Z
LAST-MODIFIED:20250829T170910Z
UID:1489-1769349600-1769356800@tinqueux-volley-ball.org
SUMMARY:R1FC: Tinqueux 1 - Villers Cotterets 2
DESCRIPTION:Gymnase De La Croix Cordier
URL:https://tinqueux-volley-ball.org/event/tinqueux-1-villers-cotterets-2/
LOCATION:Tinqueux Volley-Ball-Gymnase De La Croix Cordier\, 36 Rue De La Croix Cordier\, Tinqueux\, Marne\, 51430\, France
CATEGORIES:R1FC
END:VEVENT
END:VCALENDAR