BEGIN:VCALENDAR
VERSION:2.0
PRODID:-//TVB - ECPv6.15.20//NONSGML v1.0//EN
CALSCALE:GREGORIAN
METHOD:PUBLISH
X-ORIGINAL-URL:https://tinqueux-volley-ball.org
X-WR-CALDESC:Évènements pour TVB
REFRESH-INTERVAL;VALUE=DURATION:PT1H
X-Robots-Tag:noindex
X-PUBLISHED-TTL:PT1H
BEGIN:VTIMEZONE
TZID:Europe/Paris
BEGIN:DAYLIGHT
TZOFFSETFROM:+0100
TZOFFSETTO:+0200
TZNAME:CEST
DTSTART:20240331T010000
END:DAYLIGHT
BEGIN:STANDARD
TZOFFSETFROM:+0200
TZOFFSETTO:+0100
TZNAME:CET
DTSTART:20241027T010000
END:STANDARD
BEGIN:DAYLIGHT
TZOFFSETFROM:+0100
TZOFFSETTO:+0200
TZNAME:CEST
DTSTART:20250330T010000
END:DAYLIGHT
BEGIN:STANDARD
TZOFFSETFROM:+0200
TZOFFSETTO:+0100
TZNAME:CET
DTSTART:20251026T010000
END:STANDARD
BEGIN:DAYLIGHT
TZOFFSETFROM:+0100
TZOFFSETTO:+0200
TZNAME:CEST
DTSTART:20260329T010000
END:DAYLIGHT
BEGIN:STANDARD
TZOFFSETFROM:+0200
TZOFFSETTO:+0100
TZNAME:CET
DTSTART:20261025T010000
END:STANDARD
END:VTIMEZONE
BEGIN:VEVENT
DTSTART;TZID=Europe/Paris:20250927T210000
DTEND;TZID=Europe/Paris:20250927T230000
DTSTAMP:20260421T012036
CREATED:20250818T155423Z
LAST-MODIFIED:20250829T163216Z
UID:1481-1759006800-1759014000@tinqueux-volley-ball.org
SUMMARY:R1FC: Villers Cotterets 2 - Tinqueux 1
DESCRIPTION:Cosec Gatineau
URL:https://tinqueux-volley-ball.org/event/villers-cotterets-2-tinqueux-1/
LOCATION:Villers Cotterets Volley-Ball-Cosec Gatineau\, Avenue De Compiegne\, Villers Cotterets\, Aisne\, 02600\, France
CATEGORIES:R1FC
END:VEVENT
END:VCALENDAR