BEGIN:VCALENDAR
VERSION:2.0
PRODID:-//TVB - ECPv6.15.20//NONSGML v1.0//EN
CALSCALE:GREGORIAN
METHOD:PUBLISH
X-ORIGINAL-URL:https://tinqueux-volley-ball.org
X-WR-CALDESC:Évènements pour TVB
REFRESH-INTERVAL;VALUE=DURATION:PT1H
X-Robots-Tag:noindex
X-PUBLISHED-TTL:PT1H
BEGIN:VTIMEZONE
TZID:Europe/Paris
BEGIN:DAYLIGHT
TZOFFSETFROM:+0100
TZOFFSETTO:+0200
TZNAME:CEST
DTSTART:20250330T010000
END:DAYLIGHT
BEGIN:STANDARD
TZOFFSETFROM:+0200
TZOFFSETTO:+0100
TZNAME:CET
DTSTART:20251026T010000
END:STANDARD
BEGIN:DAYLIGHT
TZOFFSETFROM:+0100
TZOFFSETTO:+0200
TZNAME:CEST
DTSTART:20260329T010000
END:DAYLIGHT
BEGIN:STANDARD
TZOFFSETFROM:+0200
TZOFFSETTO:+0100
TZNAME:CET
DTSTART:20261025T010000
END:STANDARD
BEGIN:DAYLIGHT
TZOFFSETFROM:+0100
TZOFFSETTO:+0200
TZNAME:CEST
DTSTART:20270328T010000
END:DAYLIGHT
BEGIN:STANDARD
TZOFFSETFROM:+0200
TZOFFSETTO:+0100
TZNAME:CET
DTSTART:20271031T010000
END:STANDARD
END:VTIMEZONE
BEGIN:VEVENT
DTSTART;TZID=Europe/Paris:20260308T150000
DTEND;TZID=Europe/Paris:20260308T170000
DTSTAMP:20260420T145502
CREATED:20250805T132818Z
LAST-MODIFIED:20250829T180046Z
UID:1130-1772982000-1772989200@tinqueux-volley-ball.org
SUMMARY:PMA: Tinqueux 1 - Laon 1
DESCRIPTION:Tinqueux – Croix Cordier
URL:https://tinqueux-volley-ball.org/event/tinqueux-1-laon-1/
LOCATION:Tinqueux Volley-Ball-Gymnase De La Croix Cordier\, 36 Rue De La Croix Cordier\, Tinqueux\, Marne\, 51430\, France
CATEGORIES:PMA
END:VEVENT
BEGIN:VEVENT
DTSTART;TZID=Europe/Paris:20260315T160000
DTEND;TZID=Europe/Paris:20260315T180000
DTSTAMP:20260420T145502
CREATED:20250805T132818Z
LAST-MODIFIED:20250829T180119Z
UID:1131-1773590400-1773597600@tinqueux-volley-ball.org
SUMMARY:PMA: Amiens Metropole 3 - Tinqueux 1
DESCRIPTION:Amiens – La Paix
URL:https://tinqueux-volley-ball.org/event/amiens-metropole-3-tinqueux-1/
LOCATION:Amiens Metropole Volley-Gymnase De La Paix\, 8 Rue Avenue De La Paix\, Amiens\, Somme\, 80080\, France
CATEGORIES:PMA
END:VEVENT
BEGIN:VEVENT
DTSTART;TZID=Europe/Paris:20260322T130000
DTEND;TZID=Europe/Paris:20260322T150000
DTSTAMP:20260420T145502
CREATED:20250805T132818Z
LAST-MODIFIED:20250829T180152Z
UID:1132-1774184400-1774191600@tinqueux-volley-ball.org
SUMMARY:PMA: Tinqueux 1 - Lievin 1
DESCRIPTION:Tinqueux – Croix Cordier
URL:https://tinqueux-volley-ball.org/event/tinqueux-1-lievin-1/
LOCATION:Tinqueux Volley-Ball-Gymnase De La Croix Cordier\, 36 Rue De La Croix Cordier\, Tinqueux\, Marne\, 51430\, France
CATEGORIES:PMA
END:VEVENT
BEGIN:VEVENT
DTSTART;TZID=Europe/Paris:20260328T190000
DTEND;TZID=Europe/Paris:20260328T210000
DTSTAMP:20260420T145502
CREATED:20250805T132832Z
LAST-MODIFIED:20250902T161709Z
UID:1133-1774724400-1774731600@tinqueux-volley-ball.org
SUMMARY:PMA: Le Quesnoy 1 - Tinqueux 1
DESCRIPTION:Salle Michel Bernard
URL:https://tinqueux-volley-ball.org/event/le-quesnoy-1-tinqueux-1/
LOCATION:Volley Ball Le Quesnoy-Salle Michel Bernard\, Rue Juhel\, Le Quesnoy\, Nord\, 59530\, France
CATEGORIES:PMA
END:VEVENT
END:VCALENDAR