BEGIN:VCALENDAR
VERSION:2.0
PRODID:-//TVB - ECPv6.15.20//NONSGML v1.0//EN
CALSCALE:GREGORIAN
METHOD:PUBLISH
X-ORIGINAL-URL:https://tinqueux-volley-ball.org
X-WR-CALDESC:Évènements pour TVB
REFRESH-INTERVAL;VALUE=DURATION:PT1H
X-Robots-Tag:noindex
X-PUBLISHED-TTL:PT1H
BEGIN:VTIMEZONE
TZID:Europe/Paris
BEGIN:DAYLIGHT
TZOFFSETFROM:+0100
TZOFFSETTO:+0200
TZNAME:CEST
DTSTART:20250330T010000
END:DAYLIGHT
BEGIN:STANDARD
TZOFFSETFROM:+0200
TZOFFSETTO:+0100
TZNAME:CET
DTSTART:20251026T010000
END:STANDARD
BEGIN:DAYLIGHT
TZOFFSETFROM:+0100
TZOFFSETTO:+0200
TZNAME:CEST
DTSTART:20260329T010000
END:DAYLIGHT
BEGIN:STANDARD
TZOFFSETFROM:+0200
TZOFFSETTO:+0100
TZNAME:CET
DTSTART:20261025T010000
END:STANDARD
BEGIN:DAYLIGHT
TZOFFSETFROM:+0100
TZOFFSETTO:+0200
TZNAME:CEST
DTSTART:20270328T010000
END:DAYLIGHT
BEGIN:STANDARD
TZOFFSETFROM:+0200
TZOFFSETTO:+0100
TZNAME:CET
DTSTART:20271031T010000
END:STANDARD
END:VTIMEZONE
BEGIN:VEVENT
DTSTART;TZID=Europe/Paris:20260201T130000
DTEND;TZID=Europe/Paris:20260201T150000
DTSTAMP:20260420T162722
CREATED:20250805T132818Z
LAST-MODIFIED:20250829T175739Z
UID:1128-1769950800-1769958000@tinqueux-volley-ball.org
SUMMARY:PMA: Tinqueux 1 - Cambrai 3
DESCRIPTION:Croix Cordier
URL:https://tinqueux-volley-ball.org/event/tinqueux-1-cambrai-3/
LOCATION:Tinqueux Volley-Ball-Gymnase De La Croix Cordier\, 36 Rue De La Croix Cordier\, Tinqueux\, Marne\, 51430\, France
CATEGORIES:PMA
END:VEVENT
BEGIN:VEVENT
DTSTART;TZID=Europe/Paris:20260207T170000
DTEND;TZID=Europe/Paris:20260207T190000
DTSTAMP:20260420T162722
CREATED:20250805T132818Z
LAST-MODIFIED:20250829T180015Z
UID:1129-1770483600-1770490800@tinqueux-volley-ball.org
SUMMARY:PMA: Harnes Vb 3 - Tinqueux 1
DESCRIPTION:Salle régionale Maréchal
URL:https://tinqueux-volley-ball.org/event/harnes-vb-3-tinqueux-1/
LOCATION:Harnes Volley-Ball-Salle Regionale Marechal\, 128 Chemin Valois\, Harnes\, Pas-de-Calais\, 62440\, France
CATEGORIES:PMA
END:VEVENT
END:VCALENDAR