BEGIN:VCALENDAR
VERSION:2.0
PRODID:-//TVB - ECPv6.15.20//NONSGML v1.0//EN
CALSCALE:GREGORIAN
METHOD:PUBLISH
X-WR-CALNAME:TVB
X-ORIGINAL-URL:https://tinqueux-volley-ball.org
X-WR-CALDESC:Évènements pour TVB
REFRESH-INTERVAL;VALUE=DURATION:PT1H
X-Robots-Tag:noindex
X-PUBLISHED-TTL:PT1H
BEGIN:VTIMEZONE
TZID:Europe/Paris
BEGIN:DAYLIGHT
TZOFFSETFROM:+0100
TZOFFSETTO:+0200
TZNAME:CEST
DTSTART:20240331T010000
END:DAYLIGHT
BEGIN:STANDARD
TZOFFSETFROM:+0200
TZOFFSETTO:+0100
TZNAME:CET
DTSTART:20241027T010000
END:STANDARD
BEGIN:DAYLIGHT
TZOFFSETFROM:+0100
TZOFFSETTO:+0200
TZNAME:CEST
DTSTART:20250330T010000
END:DAYLIGHT
BEGIN:STANDARD
TZOFFSETFROM:+0200
TZOFFSETTO:+0100
TZNAME:CET
DTSTART:20251026T010000
END:STANDARD
BEGIN:DAYLIGHT
TZOFFSETFROM:+0100
TZOFFSETTO:+0200
TZNAME:CEST
DTSTART:20260329T010000
END:DAYLIGHT
BEGIN:STANDARD
TZOFFSETFROM:+0200
TZOFFSETTO:+0100
TZNAME:CET
DTSTART:20261025T010000
END:STANDARD
END:VTIMEZONE
BEGIN:VEVENT
DTSTART;TZID=Europe/Paris:20251206T170000
DTEND;TZID=Europe/Paris:20251206T190000
DTSTAMP:20260420T200117
CREATED:20250805T132802Z
LAST-MODIFIED:20250829T175429Z
UID:1125-1765040400-1765047600@tinqueux-volley-ball.org
SUMMARY:PMA: Bellaing 2 - Tinqueux 1
DESCRIPTION:Salle Germinal
URL:https://tinqueux-volley-ball.org/event/bellaing-2-tinqueux-1/
LOCATION:Vc Bellaing/Porte Du Hainaut-Salle Germinal\, 93 Rue Emile Zola\, Bellaing\, Nord\, 59135\, France
CATEGORIES:PMA
END:VEVENT
END:VCALENDAR