BEGIN:VCALENDAR
VERSION:2.0
PRODID:-//TVB - ECPv6.15.20//NONSGML v1.0//EN
CALSCALE:GREGORIAN
METHOD:PUBLISH
X-ORIGINAL-URL:https://tinqueux-volley-ball.org
X-WR-CALDESC:Évènements pour TVB
REFRESH-INTERVAL;VALUE=DURATION:PT1H
X-Robots-Tag:noindex
X-PUBLISHED-TTL:PT1H
BEGIN:VTIMEZONE
TZID:Europe/Paris
BEGIN:DAYLIGHT
TZOFFSETFROM:+0100
TZOFFSETTO:+0200
TZNAME:CEST
DTSTART:20240331T010000
END:DAYLIGHT
BEGIN:STANDARD
TZOFFSETFROM:+0200
TZOFFSETTO:+0100
TZNAME:CET
DTSTART:20241027T010000
END:STANDARD
BEGIN:DAYLIGHT
TZOFFSETFROM:+0100
TZOFFSETTO:+0200
TZNAME:CEST
DTSTART:20250330T010000
END:DAYLIGHT
BEGIN:STANDARD
TZOFFSETFROM:+0200
TZOFFSETTO:+0100
TZNAME:CET
DTSTART:20251026T010000
END:STANDARD
BEGIN:DAYLIGHT
TZOFFSETFROM:+0100
TZOFFSETTO:+0200
TZNAME:CEST
DTSTART:20260329T010000
END:DAYLIGHT
BEGIN:STANDARD
TZOFFSETFROM:+0200
TZOFFSETTO:+0100
TZNAME:CET
DTSTART:20261025T010000
END:STANDARD
END:VTIMEZONE
BEGIN:VEVENT
DTSTART;TZID=Europe/Paris:20251101T200000
DTEND;TZID=Europe/Paris:20251101T220000
DTSTAMP:20260420T215647
CREATED:20250805T132801Z
LAST-MODIFIED:20250829T174628Z
UID:1121-1762027200-1762034400@tinqueux-volley-ball.org
SUMMARY:PMA: Laon 1 - Tinqueux 1
DESCRIPTION:Gymnase Pierre de Coubertin
URL:https://tinqueux-volley-ball.org/event/laon-1-tinqueux-1/
LOCATION:Laon Volley Ball-Gymnase Coubertin\, 42 Rue Pierre Timbaud\, Laon\, Aisne\, 02000\, France
CATEGORIES:PMA
END:VEVENT
BEGIN:VEVENT
DTSTART;TZID=Europe/Paris:20251116T130000
DTEND;TZID=Europe/Paris:20251116T150000
DTSTAMP:20260420T215647
CREATED:20250805T132801Z
LAST-MODIFIED:20250829T174835Z
UID:1122-1763298000-1763305200@tinqueux-volley-ball.org
SUMMARY:PMA: Tinqueux 1 - Amiens Metropole 3
DESCRIPTION:Croix Cordier
URL:https://tinqueux-volley-ball.org/event/tinqueux-1-amiens-metropole-3/
LOCATION:Tinqueux Volley-Ball-Gymnase De La Croix Cordier\, 36 Rue De La Croix Cordier\, Tinqueux\, Marne\, 51430\, France
CATEGORIES:PMA
END:VEVENT
BEGIN:VEVENT
DTSTART;TZID=Europe/Paris:20251122T203000
DTEND;TZID=Europe/Paris:20251122T223000
DTSTAMP:20260420T215647
CREATED:20250805T132802Z
LAST-MODIFIED:20250829T175003Z
UID:1123-1763843400-1763850600@tinqueux-volley-ball.org
SUMMARY:PMA: Lievin 1 - Tinqueux 1
DESCRIPTION:Salle Noël Josephe
URL:https://tinqueux-volley-ball.org/event/lievin-1-tinqueux-1/
LOCATION:Volley Club Lievin-Salle Noel Josephe\, Rue Alban Du Souich\, Lievin\, Pas-de-Calais\, 62800\, France
CATEGORIES:PMA
END:VEVENT
BEGIN:VEVENT
DTSTART;TZID=Europe/Paris:20251130T150000
DTEND;TZID=Europe/Paris:20251130T170000
DTSTAMP:20260420T215647
CREATED:20250829T175220Z
LAST-MODIFIED:20250829T175220Z
UID:1602-1764514800-1764522000@tinqueux-volley-ball.org
SUMMARY:PMA: Tinqueux 1 - Le Quesnoy 1
DESCRIPTION:Croix Cordier
URL:https://tinqueux-volley-ball.org/event/pma-tinqueux-1-le-quesnoy-1/
LOCATION:Tinqueux Volley-Ball-Gymnase De La Croix Cordier\, 36 Rue De La Croix Cordier\, Tinqueux\, Marne\, 51430\, France
CATEGORIES:PMA
END:VEVENT
END:VCALENDAR