BEGIN:VCALENDAR
VERSION:2.0
PRODID:-//TVB - ECPv6.15.20//NONSGML v1.0//EN
CALSCALE:GREGORIAN
METHOD:PUBLISH
X-WR-CALNAME:TVB
X-ORIGINAL-URL:https://tinqueux-volley-ball.org
X-WR-CALDESC:Évènements pour TVB
REFRESH-INTERVAL;VALUE=DURATION:PT1H
X-Robots-Tag:noindex
X-PUBLISHED-TTL:PT1H
BEGIN:VTIMEZONE
TZID:Europe/Paris
BEGIN:DAYLIGHT
TZOFFSETFROM:+0100
TZOFFSETTO:+0200
TZNAME:CEST
DTSTART:20240331T010000
END:DAYLIGHT
BEGIN:STANDARD
TZOFFSETFROM:+0200
TZOFFSETTO:+0100
TZNAME:CET
DTSTART:20241027T010000
END:STANDARD
BEGIN:DAYLIGHT
TZOFFSETFROM:+0100
TZOFFSETTO:+0200
TZNAME:CEST
DTSTART:20250330T010000
END:DAYLIGHT
BEGIN:STANDARD
TZOFFSETFROM:+0200
TZOFFSETTO:+0100
TZNAME:CET
DTSTART:20251026T010000
END:STANDARD
BEGIN:DAYLIGHT
TZOFFSETFROM:+0100
TZOFFSETTO:+0200
TZNAME:CEST
DTSTART:20260329T010000
END:DAYLIGHT
BEGIN:STANDARD
TZOFFSETFROM:+0200
TZOFFSETTO:+0100
TZNAME:CET
DTSTART:20261025T010000
END:STANDARD
END:VTIMEZONE
BEGIN:VEVENT
DTSTART;TZID=Europe/Paris:20250927T183000
DTEND;TZID=Europe/Paris:20250927T203000
DTSTAMP:20260421T011906
CREATED:20250805T132801Z
LAST-MODIFIED:20250829T172816Z
UID:1118-1758997800-1759005000@tinqueux-volley-ball.org
SUMMARY:PMA: Villers Cotterets 1 - Tinqueux 1
DESCRIPTION:Cosec Gatineau
URL:https://tinqueux-volley-ball.org/event/villers-cotterets-1-tinqueux-1/
LOCATION:Villers Cotterets Volley-Ball-Cosec Gatineau\, Avenue De Compiegne\, Villers Cotterets\, Aisne\, 02600\, France
CATEGORIES:PMA
END:VEVENT
END:VCALENDAR