BEGIN:VCALENDAR
VERSION:2.0
PRODID:-//TVB - ECPv6.15.20//NONSGML v1.0//EN
CALSCALE:GREGORIAN
METHOD:PUBLISH
X-WR-CALNAME:TVB
X-ORIGINAL-URL:https://tinqueux-volley-ball.org
X-WR-CALDESC:Évènements pour TVB
REFRESH-INTERVAL;VALUE=DURATION:PT1H
X-Robots-Tag:noindex
X-PUBLISHED-TTL:PT1H
BEGIN:VTIMEZONE
TZID:Europe/Paris
BEGIN:DAYLIGHT
TZOFFSETFROM:+0100
TZOFFSETTO:+0200
TZNAME:CEST
DTSTART:20250330T010000
END:DAYLIGHT
BEGIN:STANDARD
TZOFFSETFROM:+0200
TZOFFSETTO:+0100
TZNAME:CET
DTSTART:20251026T010000
END:STANDARD
BEGIN:DAYLIGHT
TZOFFSETFROM:+0100
TZOFFSETTO:+0200
TZNAME:CEST
DTSTART:20260329T010000
END:DAYLIGHT
BEGIN:STANDARD
TZOFFSETFROM:+0200
TZOFFSETTO:+0100
TZNAME:CET
DTSTART:20261025T010000
END:STANDARD
BEGIN:DAYLIGHT
TZOFFSETFROM:+0100
TZOFFSETTO:+0200
TZNAME:CEST
DTSTART:20270328T010000
END:DAYLIGHT
BEGIN:STANDARD
TZOFFSETFROM:+0200
TZOFFSETTO:+0100
TZNAME:CET
DTSTART:20271031T010000
END:STANDARD
END:VTIMEZONE
BEGIN:VEVENT
DTSTART;TZID=Europe/Paris:20260503T130000
DTEND;TZID=Europe/Paris:20260503T150000
DTSTAMP:20260420T071209
CREATED:20250818T155454Z
LAST-MODIFIED:20250902T162007Z
UID:1495-1777813200-1777820400@tinqueux-volley-ball.org
SUMMARY:R1FC: Tinqueux 1 - Helesmes 1
DESCRIPTION:Gymnase De La Croix Cordier
URL:https://tinqueux-volley-ball.org/event/tinqueux-1-helesmes-1/
LOCATION:Tinqueux Volley-Ball-Gymnase De La Croix Cordier\, 36 Rue De La Croix Cordier\, Tinqueux\, Marne\, 51430\, France
CATEGORIES:R1FC
END:VEVENT
BEGIN:VEVENT
DTSTART;TZID=Europe/Paris:20260503T150000
DTEND;TZID=Europe/Paris:20260503T170000
DTSTAMP:20260420T071209
CREATED:20250805T132832Z
LAST-MODIFIED:20250902T161930Z
UID:1134-1777820400-1777827600@tinqueux-volley-ball.org
SUMMARY:PMA: Tinqueux 1 - Bellaing 2
DESCRIPTION:Tinqueux – Croix Cordier
URL:https://tinqueux-volley-ball.org/event/tinqueux-1-bellaing-2/
LOCATION:Tinqueux Volley-Ball-Gymnase De La Croix Cordier\, 36 Rue De La Croix Cordier\, Tinqueux\, Marne\, 51430\, France
CATEGORIES:PMA
END:VEVENT
BEGIN:VEVENT
DTSTART;TZID=Europe/Paris:20260510T110000
DTEND;TZID=Europe/Paris:20260510T130000
DTSTAMP:20260420T071209
CREATED:20250818T155454Z
LAST-MODIFIED:20250902T162105Z
UID:1496-1778410800-1778418000@tinqueux-volley-ball.org
SUMMARY:R1FC: Rantigny-Liancourt 1 - Tinqueux 1
DESCRIPTION:Salle Municipale
URL:https://tinqueux-volley-ball.org/event/rantigny-liancourt-1-tinqueux-1/
LOCATION:Volley-Ball Rantigny-Liancourt-Salle Municipale\, Rue Sacco Et Vanzetti\, Rantigny\, Oise\, 60290\, France
CATEGORIES:R1FC
END:VEVENT
BEGIN:VEVENT
DTSTART;TZID=Europe/Paris:20260510T160000
DTEND;TZID=Europe/Paris:20260510T180000
DTSTAMP:20260420T071209
CREATED:20250805T132833Z
LAST-MODIFIED:20250902T162041Z
UID:1135-1778428800-1778436000@tinqueux-volley-ball.org
SUMMARY:PMA: Beauvais 2 - Tinqueux 1
DESCRIPTION:Salle Pierre De Coubertin
URL:https://tinqueux-volley-ball.org/event/beauvais-2-tinqueux-1/
LOCATION:Beauvais Oise Uc Volley-Salle Pierre De Coubertin\, Rue Marcelle Geudelin\, Beauvais\, Oise\, 60000\, France
CATEGORIES:PMA
END:VEVENT
END:VCALENDAR